BEGIN:VCALENDAR
VERSION:2.0
PRODID:-//eventon.com NONSGML v1.0//EN
CALSCALE:GREGORIAN
METHOD:PUBLISH
BEGIN:VEVENT
UID:69e7a06dbf951
DTSTAMP:20260421T160605Z
DTSTART:20220717T010000Z
DTEND:20220717T040000Z
LOCATION:Galena Brewing Company
SUMMARY:Kevin Boehnke
DESCRIPTION:Based out of Iowa City\,  Iowa\,  Kevin Boehnke is an independe
 nt artist\,  session player\,  and songwriter. Kevin has recorded several a
 lbums with national award-winning artist Chad Elliott\,  as well as tracks 
 with Patrick Cunningham\,  Ben Foster\,  Rachel Bearinger\,  and others. Th
 e talented musicians Kevin has been fortunate to work with[..]\nhttps://gal
 enaguide.com/events/kevin-boehnke/
URL:https://galenaguide.com/events/kevin-boehnke/
END:VEVENT
END:VCALENDAR