BEGIN:VCALENDAR
VERSION:2.0
PRODID:-//eventon.com NONSGML v1.0//EN
CALSCALE:GREGORIAN
METHOD:PUBLISH
BEGIN:VEVENT
UID:69e9ec39499e3
DTSTAMP:20260423T095401Z
DTSTART:20211023T003000Z
DTEND:20211023T033000Z
LOCATION:Irish Cottage 9853 US Hwy 20 Galena\,  Illinois 61036
SUMMARY:Joe Hart
DESCRIPTION:Original country/Americana songs that blend humor\,  heartache\
 ,  and honky-tonk. With an eclectic style that ranges from hillbilly roots 
 to Nashville pop\,  the songwriting team of Nikki Grossman and Joe Hart has
  developed a lively\,  contemporary take on country music. Their creative l
 yrics\,  catchy melodies\,  and clever stage show have earned[..]\nhttps://
 galenaguide.com/events/joe-hart/
URL:https://galenaguide.com/events/joe-hart/
END:VEVENT
END:VCALENDAR