BEGIN:VCALENDAR
VERSION:2.0
PRODID:-//eventon.com NONSGML v1.0//EN
CALSCALE:GREGORIAN
METHOD:PUBLISH
BEGIN:VEVENT
UID:69eb411761163
DTSTAMP:20260424T100823Z
DTSTART:20221112T230000Z
DTEND:20221113T020000Z
LOCATION:Galena Cellars - Main St Galena 111 N Main Galena IL 61036
SUMMARY:Keith Scott
DESCRIPTION:Remarkably versatile\,  Chicago-based blues/rock guitarist Keit
 h Scott has been working his way methodically up through the blues&#8217; r
 anks since his parents bought him his first guitar at age 14 and his young 
 ears heard Muddy Waters in 1980. Born in White Plains\,  N.Y.\,  Scott was 
 first exposed to the music[..]\nhttps://galenaguide.com/events/keith-scott/
URL:https://galenaguide.com/events/keith-scott/
END:VEVENT
END:VCALENDAR