BEGIN:VCALENDAR
VERSION:2.0
PRODID:-//eventon.com NONSGML v1.0//EN
CALSCALE:GREGORIAN
METHOD:PUBLISH
BEGIN:VEVENT
UID:69e53d5a28ed2
DTSTAMP:20260419T203850Z
DTSTART:20221008T170000Z
DTEND:20221008T200000Z
LOCATION:Galena Cellars - Main St Galena 111 N Main Galena IL 61036
SUMMARY:Tom Rucker
DESCRIPTION:Tom Rucker is a multi-instrumentalist who plays live in both th
 e solo setting and with multiple bands. He also is an experienced studio mu
 sician. Join us for our ongoing Live Music series at our new location\,  11
 1 N. Main! Kick off your day with live music by your favorite local[..]\nht
 tps://galenaguide.com/events/tom-rucker/
URL:https://galenaguide.com/events/tom-rucker/
END:VEVENT
END:VCALENDAR