BEGIN:VCALENDAR
VERSION:2.0
PRODID:-//eventon.com NONSGML v1.0//EN
CALSCALE:GREGORIAN
METHOD:PUBLISH
BEGIN:VEVENT
UID:69ea1c37e9b0c
DTSTAMP:20260423T131847Z
DTSTART:20250528T230000Z
DTEND:20250529T020000Z
LOCATION:The Grape Escape 242 N Main St\,  Galena\,  IL 61036
SUMMARY:Joie Wails
DESCRIPTION:Always a rockin good time!\nhttps://galenaguide.com/events/joie
 -wails/var/ri-11.l-L1
URL:https://galenaguide.com/events/joie-wails/var/ri-11.l-L1
END:VEVENT
END:VCALENDAR