BEGIN:VCALENDAR
VERSION:2.0
PRODID:-//eventon.com NONSGML v1.0//EN
CALSCALE:GREGORIAN
METHOD:PUBLISH
BEGIN:VEVENT
UID:69e82866464ff
DTSTAMP:20260422T014614Z
DTSTART:20220731T010000Z
DTEND:20220731T040000Z
LOCATION:The Grape Escape 242 N Main St\,  Galena\,  IL 61036
SUMMARY:Jef Spradley & Jordan Danielsen
DESCRIPTION:Jef Spradley & Jordan Danielsen\nhttps://galenaguide.com/events
 /jef-spradley-jordan-danielsen/
URL:https://galenaguide.com/events/jef-spradley-jordan-danielsen/
END:VEVENT
END:VCALENDAR