BEGIN:VCALENDAR
VERSION:2.0
PRODID:-//eventon.com NONSGML v1.0//EN
CALSCALE:GREGORIAN
METHOD:PUBLISH
BEGIN:VEVENT
UID:69e813995692b
DTSTAMP:20260422T001729Z
DTSTART:20220831T010000Z
DTEND:20220831T040000Z
LOCATION:The Grape Escape 242 N Main St\,  Galena\,  IL 61036
SUMMARY:Jef Spradley & Jordan Danielsen
DESCRIPTION:Jef Spradley & Jordan Danielsen\nhttps://galenaguide.com/events
 /jef-spradley-jordan-danielsen/var/ri-1.l-L1
URL:https://galenaguide.com/events/jef-spradley-jordan-danielsen/var/ri-1.l-L1
END:VEVENT
END:VCALENDAR