BEGIN:VCALENDAR
VERSION:2.0
PRODID:-//eventon.com NONSGML v1.0//EN
CALSCALE:GREGORIAN
METHOD:PUBLISH
BEGIN:VEVENT
UID:69e6d4fc02347
DTSTAMP:20260421T013804Z
DTSTART:20220512T000000Z
DTEND:20220512T020000Z
LOCATION:Galena Center for the Arts 971 Gear Street\,  Galena\,  Illinois\,  61036
SUMMARY:"Romance in D" - Play Reading
DESCRIPTION:Galena Center for the Arts is delighted to once again oer “ta
 ble readings” of plays. These readings give the audience an opportunity t
 o hear the text of a play out loud\,  with a discussion afterwards. The fir
 st play in our new table reading series will be “Romance in D\, ” a[..]
 \nhttps://galenaguide.com/events/romance-in-d-play-reading/
URL:https://galenaguide.com/events/romance-in-d-play-reading/
END:VEVENT
END:VCALENDAR