BEGIN:VCALENDAR
VERSION:2.0
PRODID:-//eventon.com NONSGML v1.0//EN
CALSCALE:GREGORIAN
METHOD:PUBLISH
BEGIN:VEVENT
UID:69e9d7d576f7e
DTSTAMP:20260423T082701Z
DTSTART:20220722T000000Z
DTEND:20220722T023000Z
LOCATION:Galena Center for the Arts 971 Gear Street\,  Galena\,  Illinois\,  61036
SUMMARY:Songwriters Showcase: The Gutheries & Chad Aaron Olson\,  Jr.
DESCRIPTION:Join us for our July Songwriters Showcase featuring The Gutheri
 es and Chad Aaron Olson Jr. The showcase will be held at the Center on July
  21 at 7 pm. This event is free\,  but donations are appreciated. The Guthr
 ies are an American Roots music duo creating music peppered with influences
 [..]\nhttps://galenaguide.com/events/songwriters-showcase-the-gutheries-cha
 d-aaron-olson-jr-2/
URL:https://galenaguide.com/events/songwriters-showcase-the-gutheries-chad-aaron-olson-jr-2/
END:VEVENT
END:VCALENDAR