BEGIN:VCALENDAR
VERSION:2.0
PRODID:-//eventon.com NONSGML v1.0//EN
CALSCALE:GREGORIAN
METHOD:PUBLISH
BEGIN:VEVENT
UID:69e79b9eea243
DTSTAMP:20260421T154534Z
DTSTART:20240406T013000Z
DTEND:20240406T043000Z
LOCATION:The Grape Escape 242 N Main St\,  Galena\,  IL 61036
SUMMARY:Jef Spradley
DESCRIPTION:Performing more than 1500 solo/duo shows in the last six year
 s\,   Jef has turned his passion for music into a career. He quickly buil
 t a fan base all across the midwest by constantly adding hundreds of songs
  in his repertoire. His music ranges from Country\,  Top 100 hits\,  Pop\, 
  Blues\,  Oldies\,  Classic Rock\,  and originals.[..]\nhttps://galenaguid
 e.com/events/jef-spradley/
URL:https://galenaguide.com/events/jef-spradley/
END:VEVENT
END:VCALENDAR