BEGIN:VCALENDAR
VERSION:2.0
PRODID:-//eventon.com NONSGML v1.0//EN
CALSCALE:GREGORIAN
METHOD:PUBLISH
BEGIN:VEVENT
UID:69ec9eae0e5a1
DTSTAMP:20260425T105958Z
DTSTART:20250830T220000Z
DTEND:20250831T010000Z
LOCATION:Galena Cellars - Main St Galena 111 N Main Galena IL 61036
SUMMARY:Sam Day
DESCRIPTION:Sam\,  a Dubuque native\,  is a classically trained cellist by 
 day and electric cellist by night\nhttps://galenaguide.com/events/sam-day/
URL:https://galenaguide.com/events/sam-day/
END:VEVENT
END:VCALENDAR