BEGIN:VCALENDAR
VERSION:2.0
PRODID:-//eventon.com NONSGML v1.0//EN
CALSCALE:GREGORIAN
METHOD:PUBLISH
BEGIN:VEVENT
UID:69e4d1a18a445
DTSTAMP:20260419T125913Z
DTSTART:20220703T010000Z
DTEND:20220703T040000Z
LOCATION:Galena Brewing Company
SUMMARY:Kayleigh Mathews
DESCRIPTION:Kayleigh Mathews is an American Country Music Singer\,  Songwri
 ter\,  and Nashville Recording artist. Her love for music began at a young 
 age with genre influences rooted in bluegrass\,  Gospel\,  and Traditional 
 Country. Growing up in the southwest\,  she began honing her songwriting cr
 aft inspired by her hometown and life experiences\, [..]\nhttps://galenagui
 de.com/events/kayleigh-mathews/
URL:https://galenaguide.com/events/kayleigh-mathews/
END:VEVENT
END:VCALENDAR