BEGIN:VCALENDAR
VERSION:2.0
PRODID:-//eventon.com NONSGML v1.0//EN
CALSCALE:GREGORIAN
METHOD:PUBLISH
BEGIN:VEVENT
UID:69e804c723dfb
DTSTAMP:20260421T231415Z
DTSTART:20220819T000000Z
DTEND:20220819T023000Z
LOCATION:Galena Center for the Arts 971 Gear Street\,  Galena\,  Illinois\,  61036
SUMMARY:Songwriters Showcase: Bruce Moon
DESCRIPTION:Join Galena Center for the Arts on Thursday\,  August 18\,  for
  the August Songwriters Showcase featuring Bruce Moon. The showcase will st
 art at 7 pm outside on the grounds of the Center\,  located at 971 Gear Str
 eet in Galena. Bruce will be accompanied by bass and guitar player Mike Haw
 ksworth.[..]\nhttps://galenaguide.com/events/songwriters-showcase-bruce-moo
 n/
URL:https://galenaguide.com/events/songwriters-showcase-bruce-moon/
END:VEVENT
END:VCALENDAR