BEGIN:VCALENDAR
VERSION:2.0
PRODID:-//eventon.com NONSGML v1.0//EN
CALSCALE:GREGORIAN
METHOD:PUBLISH
BEGIN:VEVENT
UID:69eb9983bf5dd
DTSTAMP:20260424T162539Z
DTSTART:20220924T160000Z
DTEND:20220924T230000Z
LOCATION:Galena Cellars Vineyard 4746 N Ford Rd  Galena IL 61036
SUMMARY:Fall Harvest & Art Festival
DESCRIPTION:Join us as we celebrate the 2022 Harvest at Galena Cellars! Our
  12th annual event will take place at the Vineyard Saturday\,  September 24
 th. The day will be filled with family friendly activities – pumpkin pain
 ting for kids\,  horse-drawn wagon rides\,  local artists and of course the
  popular grape stomp![..]\nhttps://galenaguide.com/events/fall-harvest-art-
 festival/
URL:https://galenaguide.com/events/fall-harvest-art-festival/
END:VEVENT
END:VCALENDAR