BEGIN:VCALENDAR
VERSION:2.0
PRODID:-//eventon.com NONSGML v1.0//EN
CALSCALE:GREGORIAN
METHOD:PUBLISH
BEGIN:VEVENT
UID:69e9fccc4707b
DTSTAMP:20260423T110444Z
DTSTART:20220902T130000Z
DTEND:20220905T230000Z
LOCATION:Eagle Ridge Resort 444 Eagle Ridge Drive Galena IL
SUMMARY:Labor Day Sidewalk Sale
DESCRIPTION:Labor Day Sidewalk Sale\nhttps://galenaguide.com/events/labor-d
 ay-sidewalk-sale/
URL:https://galenaguide.com/events/labor-day-sidewalk-sale/
END:VEVENT
END:VCALENDAR