BEGIN:VCALENDAR
VERSION:2.0
PRODID:-//eventon.com NONSGML v1.0//EN
CALSCALE:GREGORIAN
METHOD:PUBLISH
BEGIN:VEVENT
UID:69e50be8dfa4a
DTSTAMP:20260419T170752Z
DTSTART:20221224T020000Z
DTEND:20221224T050000Z
LOCATION:The Grape Escape 242 N Main St\,  Galena\,  IL 61036
SUMMARY:Ten Gallon Hat
DESCRIPTION:Classic/Contemporary Country and Southern Rock Specialists.\nht
 tps://galenaguide.com/events/ten-gallon-hat/
URL:https://galenaguide.com/events/ten-gallon-hat/
END:VEVENT
END:VCALENDAR