BEGIN:VCALENDAR
VERSION:2.0
PRODID:-//eventon.com NONSGML v1.0//EN
CALSCALE:GREGORIAN
METHOD:PUBLISH
BEGIN:VEVENT
UID:69e705d2da70e
DTSTAMP:20260421T050626Z
DTSTART:20240704T210000Z
DTEND:20240705T000000Z
LOCATION:Galena Cellars - Main St Galena 111 N Main Galena IL 61036
SUMMARY:The Alumatics
DESCRIPTION:Join us for live music at our Downtown location\,  111 N. Main 
 5-8pm in the first-floor bar. Grab a glass\,  tasting flight\,  or bottle a
 s you enjoy local music in Galena. Galena Cellars wine\,  cocktails\,  beer
 \,  non-alcoholic options\,  and our full menu will be available. The kitch
 en is open till[..]\nhttps://galenaguide.com/events/the-alumatics/
URL:https://galenaguide.com/events/the-alumatics/
END:VEVENT
END:VCALENDAR