BEGIN:VCALENDAR
VERSION:2.0
PRODID:-//eventon.com NONSGML v1.0//EN
CALSCALE:GREGORIAN
METHOD:PUBLISH
BEGIN:VEVENT
UID:69e9f6759f84a
DTSTAMP:20260423T103741Z
DTSTART:20240517T000000Z
DTEND:20240517T020000Z
LOCATION:Galena Center for the Arts 971 Gear Street\,  Galena\,  Illinois\,  61036
SUMMARY:Songwriters Showcase featuring Scott Cornwell and Roy Schroedl
DESCRIPTION:Scott’s music is rooted in rock\,  folk\,  soul\,  bluegrass\
 ,  old time\,  and funk. He performs on the many unique acoustic and electr
 ic banjos he has built. Roy’s specialty is performing acoustic rock on 12
 -string acoustic guitar. His vocals channel a cross between Tom Waits\,  Ji
 mmy Buffett and Cat Stevens. Refreshments[..]\nhttps://galenaguide.com/even
 ts/songwriters-showcase-featuring-scott-cornwell-and-roy-schroedl/
URL:https://galenaguide.com/events/songwriters-showcase-featuring-scott-cornwell-and-roy-schroedl/
END:VEVENT
END:VCALENDAR