BEGIN:VCALENDAR
VERSION:2.0
PRODID:-//eventon.com NONSGML v1.0//EN
CALSCALE:GREGORIAN
METHOD:PUBLISH
BEGIN:VEVENT
UID:69e7147a952a7
DTSTAMP:20260421T060858Z
DTSTART:20240830T000000Z
DTEND:20240830T013000Z
LOCATION:Galena Center for the Arts 971 Gear Street\,  Galena\,  Illinois\,  61036
SUMMARY:“Of Insects and Interconnection” Presentation and Book Signing with Galena Native Heather Swan
DESCRIPTION:The Galena Center for the Arts\,  971 Gear Street\,  Galena\,  
 IL will host a book signing and presentation by Galena native author Heathe
 r Swan on Thursday\,  August 29 at 7pm. Swan’s current book\,  “Where t
 he Grass Still Sings” braids art\,  poetry\,  science and memoir together
  to honor the importance of[..]\nhttps://galenaguide.com/events/of-insects-
 and-interconnection-presentation-and-book-signing-with-galena-native-author
 -heather-swan/
URL:https://galenaguide.com/events/of-insects-and-interconnection-presentation-and-book-signing-with-galena-native-author-heather-swan/
END:VEVENT
END:VCALENDAR