BEGIN:VCALENDAR
VERSION:2.0
PRODID:-//eventon.com NONSGML v1.0//EN
CALSCALE:GREGORIAN
METHOD:PUBLISH
BEGIN:VEVENT
UID:69e9ea9069d48
DTSTAMP:20260423T094656Z
DTSTART:20250109T000000Z
DTEND:20250109T010000Z
LOCATION:Miss Kitty&#039;s Grape Escape 242 N. Main Galena IL
SUMMARY:Galena LitFest: Poetry in Dialogue
DESCRIPTION:Join us at the Grape Escape for an evening of poetry and discus
 sion presented by two regional Poet Laureates\,  Jenna Goldsmith of Rockfor
 d\,  IL and Galena’s very own\,  Ted Williams. In a conversational style\
 ,  Ted and Jenna will discuss their poetical journeys\,  making an impact w
 ith the written word\,  and[..]\nhttps://galenaguide.com/events/galena-litf
 est-poetry-in-dialogue/
URL:https://galenaguide.com/events/galena-litfest-poetry-in-dialogue/
END:VEVENT
END:VCALENDAR