BEGIN:VCALENDAR
VERSION:2.0
PRODID:-//eventon.com NONSGML v1.0//EN
CALSCALE:GREGORIAN
METHOD:PUBLISH
BEGIN:VEVENT
UID:69e8d51e04a40
DTSTAMP:20260422T140310Z
DTSTART:20250126T190000Z
DTEND:20250126T210000Z
LOCATION:Galena Center for the Arts 971 Gear Street\,  Galena\,  Illinois\,  61036
SUMMARY:Meet the Artist: K Kriesel
DESCRIPTION:K (they/them) is a textile artist who integrates natural and sp
 iritual themes into their work. They utilize sewing\,  embroidery\,  beadin
 g\,  and 3d printing and they’re currently experimenting with 3 dimension
 al pieces such as shrines. They have a B.A. in studio art from Alverno Coll
 ege in Milwaukee. K will share their[..]\nhttps://galenaguide.com/events/me
 et-the-artist-k-kriesel/
URL:https://galenaguide.com/events/meet-the-artist-k-kriesel/
END:VEVENT
END:VCALENDAR